BEGIN:VCALENDAR
VERSION:2.0
PRODID:icalendar-ruby
CALSCALE:GREGORIAN
METHOD:PUBLISH
BEGIN:VEVENT
DTSTAMP:20260423T020155Z
UID:18-1375469@riversidefriendschurch.com
DTSTART:20261011T153000Z
DTEND:20261011T163000Z
CLASS:PUBLIC
CREATED:20260422T182213
DESCRIPTION:Sunday Worship
LAST-MODIFIED:20260422T182213
LOCATION:The Church
SUMMARY:Worship Service
URL;VALUE=URI:https://riversidefriendschurch.com/events/worship-service--18
 /2026-10-11
END:VEVENT
END:VCALENDAR
