BEGIN:VCALENDAR
VERSION:2.0
PRODID:icalendar-ruby
CALSCALE:GREGORIAN
METHOD:PUBLISH
BEGIN:VEVENT
DTSTAMP:20260422T220540Z
UID:18-1374472@riversidefriendschurch.com
DTSTART:20260927T153000Z
DTEND:20260927T163000Z
CLASS:PUBLIC
CREATED:20260422T152943
DESCRIPTION:Sunday Worship
LAST-MODIFIED:20260422T152943
LOCATION:The Church
SUMMARY:Worship Service
URL;VALUE=URI:https://riversidefriendschurch.com/events/worship-service--18
 /2026-09-27
END:VEVENT
END:VCALENDAR
