BEGIN:VCALENDAR
VERSION:2.0
PRODID:icalendar-ruby
CALSCALE:GREGORIAN
METHOD:PUBLISH
BEGIN:VEVENT
DTSTAMP:20260422T202235Z
UID:18-1373476@riversidefriendschurch.com
DTSTART:20260920T153000Z
DTEND:20260920T163000Z
CLASS:PUBLIC
CREATED:20260422T123442
DESCRIPTION:Sunday Worship
LAST-MODIFIED:20260422T123442
LOCATION:The Church
SUMMARY:Worship Service
URL;VALUE=URI:https://riversidefriendschurch.com/events/worship-service--18
 /2026-09-20
END:VEVENT
END:VCALENDAR
