BEGIN:VCALENDAR
VERSION:2.0
PRODID:icalendar-ruby
CALSCALE:GREGORIAN
METHOD:PUBLISH
BEGIN:VEVENT
DTSTAMP:20260422T183912Z
UID:18-1373475@riversidefriendschurch.com
DTSTART:20260913T153000Z
DTEND:20260913T163000Z
CLASS:PUBLIC
CREATED:20260422T123442
DESCRIPTION:Sunday Worship
LAST-MODIFIED:20260422T123442
LOCATION:The Church
SUMMARY:Worship Service
URL;VALUE=URI:https://riversidefriendschurch.com/events/worship-service--18
 /2026-09-13
END:VEVENT
END:VCALENDAR
