BEGIN:VCALENDAR
VERSION:2.0
PRODID:icalendar-ruby
CALSCALE:GREGORIAN
METHOD:PUBLISH
BEGIN:VEVENT
DTSTAMP:20260422T091305Z
UID:18-1370487@riversidefriendschurch.com
DTSTART:20260823T153000Z
DTEND:20260823T163000Z
CLASS:PUBLIC
CREATED:20260421T194125
DESCRIPTION:Sunday Worship
LAST-MODIFIED:20260421T194125
LOCATION:The Church
SUMMARY:Worship Service
URL;VALUE=URI:https://riversidefriendschurch.com/events/worship-service--18
 /2026-08-23
END:VEVENT
END:VCALENDAR
