BEGIN:VCALENDAR
VERSION:2.0
PRODID:icalendar-ruby
CALSCALE:GREGORIAN
METHOD:PUBLISH
BEGIN:VEVENT
DTSTAMP:20260420T072814Z
UID:18-1358563@riversidefriendschurch.com
DTSTART:20260816T153000Z
DTEND:20260816T163000Z
CLASS:PUBLIC
CREATED:20260420T013638
DESCRIPTION:Sunday Worship
LAST-MODIFIED:20260420T013638
LOCATION:The Church
SUMMARY:Worship Service
URL;VALUE=URI:https://riversidefriendschurch.com/events/worship-service--18
 /2026-08-16
END:VEVENT
END:VCALENDAR
