BEGIN:VCALENDAR
VERSION:2.0
PRODID:icalendar-ruby
CALSCALE:GREGORIAN
METHOD:PUBLISH
BEGIN:VEVENT
DTSTAMP:20260420T044712Z
UID:18-1357566@riversidefriendschurch.com
DTSTART:20260802T153000Z
DTEND:20260802T163000Z
CLASS:PUBLIC
CREATED:20260419T215945
DESCRIPTION:Sunday Worship
LAST-MODIFIED:20260419T215945
LOCATION:The Church
SUMMARY:Worship Service
URL;VALUE=URI:https://riversidefriendschurch.com/events/worship-service--18
 /2026-08-02
END:VEVENT
END:VCALENDAR
