BEGIN:VCALENDAR
VERSION:2.0
PRODID:icalendar-ruby
CALSCALE:GREGORIAN
METHOD:PUBLISH
BEGIN:VEVENT
DTSTAMP:20260420T032036Z
UID:18-1357565@riversidefriendschurch.com
DTSTART:20260726T153000Z
DTEND:20260726T163000Z
CLASS:PUBLIC
CREATED:20260419T215945
DESCRIPTION:Sunday Worship
LAST-MODIFIED:20260419T215945
LOCATION:The Church
SUMMARY:Worship Service
URL;VALUE=URI:https://riversidefriendschurch.com/events/worship-service--18
 /2026-07-26
END:VEVENT
END:VCALENDAR
